View In:
ArcGIS JavaScript
ArcGIS Online Map Viewer
ArcGIS Earth
ArcMap
View Footprint In:
ArcGIS Online Map Viewer
Service Description: Imagery/Flagler_County_Aerial_Imagery_2008
Name: Imagery/Flagler_County_Aerial_Imagery_2008
Description:
Single Fused Map Cache: false
Extent:
XMin: 485000
YMin: 1790000
XMax: 625000
YMax: 1945000
Spatial Reference: PROJCS["NAD_1983_Florida_East",GEOGCS["GCS_North_American_1983",DATUM["D_North_American_1983",SPHEROID["GRS_1980",6378137.0,298.257222101]],PRIMEM["Greenwich",0.0],UNIT["degree (supplier to define representation)",0.01745329251994328]],PROJECTION["Transverse_Mercator"],PARAMETER["false_easting",656166.6666666666],PARAMETER["false_northing",0.0],PARAMETER["central_meridian",-81.0000000000001],PARAMETER["scale_factor",0.999941177],PARAMETER["latitude_of_origin",24.33333333333336],UNIT["Foot_US",0.3048006096012192]]
Initial Extent:
XMin: 485000
YMin: 1790000
XMax: 625000
YMax: 1945000
Spatial Reference: PROJCS["NAD_1983_Florida_East",GEOGCS["GCS_North_American_1983",DATUM["D_North_American_1983",SPHEROID["GRS_1980",6378137.0,298.257222101]],PRIMEM["Greenwich",0.0],UNIT["degree (supplier to define representation)",0.01745329251994328]],PROJECTION["Transverse_Mercator"],PARAMETER["false_easting",656166.6666666666],PARAMETER["false_northing",0.0],PARAMETER["central_meridian",-81.0000000000001],PARAMETER["scale_factor",0.999941177],PARAMETER["latitude_of_origin",24.33333333333336],UNIT["Foot_US",0.3048006096012192]]
Full Extent:
XMin: 485000
YMin: 1790000
XMax: 625000
YMax: 1945000
Spatial Reference: PROJCS["NAD_1983_Florida_East",GEOGCS["GCS_North_American_1983",DATUM["D_North_American_1983",SPHEROID["GRS_1980",6378137.0,298.257222101]],PRIMEM["Greenwich",0.0],UNIT["degree (supplier to define representation)",0.01745329251994328]],PROJECTION["Transverse_Mercator"],PARAMETER["false_easting",656166.6666666666],PARAMETER["false_northing",0.0],PARAMETER["central_meridian",-81.0000000000001],PARAMETER["scale_factor",0.999941177],PARAMETER["latitude_of_origin",24.33333333333336],UNIT["Foot_US",0.3048006096012192]]
Time Info:
Start Time Field: DateFlown
End Time Field: DateFlown
Time Extent:
[2008/01/01 00:00:00 UTC, 2008/01/01 00:00:00 UTC]
Time Reference:
N/A
Pixel Size X: 1.0
Pixel Size Y: 1.0
Band Count: 3
Pixel Type: U8
RasterFunction Infos: {"rasterFunctionInfos": [{
"name": "None",
"description": "",
"help": ""
}]}
Mensuration Capabilities: None
Has Histograms: true
Has Colormap: false
Has Multi Dimensions : false
Rendering Rule:
Min Scale: 0
Max Scale: 0
Copyright Text:
Service Data Type: esriImageServiceDataTypeRGB
Min Values: 2, 2, 16
Max Values: 255, 255, 255
Mean Values: 77.98400883477562, 96.78040713233496, 87.904707689699
Standard Deviation Values: 30.59544787294603, 27.362090919065732, 20.862562872395156
Object ID Field: OBJECTID
Fields:
-
OBJECTID
(
type: esriFieldTypeOID, alias: OBJECTID
)
-
Name
(
type: esriFieldTypeString, alias: Name, length: 200
)
-
MinPS
(
type: esriFieldTypeDouble, alias: MinPS
)
-
MaxPS
(
type: esriFieldTypeDouble, alias: MaxPS
)
-
LowPS
(
type: esriFieldTypeDouble, alias: LowPS
)
-
HighPS
(
type: esriFieldTypeDouble, alias: HighPS
)
-
Category
(
type: esriFieldTypeInteger, alias: Category
, Coded Values:
[0: Unknown]
, [1: Primary]
, [2: Overview]
, ...6 more...
)
-
Tag
(
type: esriFieldTypeString, alias: Tag, length: 100
)
-
GroupName
(
type: esriFieldTypeString, alias: GroupName, length: 100
)
-
ProductName
(
type: esriFieldTypeString, alias: ProductName, length: 100
)
-
CenterX
(
type: esriFieldTypeDouble, alias: CenterX
)
-
CenterY
(
type: esriFieldTypeDouble, alias: CenterY
)
-
ZOrder
(
type: esriFieldTypeInteger, alias: ZOrder
)
-
Shape
(
type: esriFieldTypeGeometry, alias: Shape
)
-
DateFlown
(
type: esriFieldTypeDate, alias: DateFlown, length: 8
)
Default Mosaic Method: Northwest
Allowed Mosaic Methods: NorthWest,Center,LockRaster,ByAttribute,Nadir,Viewpoint,Seamline,None
SortField:
SortValue: null
Mosaic Operator: First
Default Compression Quality: 85
Default Resampling Method: Bilinear
Max Record Count: 1000
Max Image Height: 4100
Max Image Width: 15000
Max Download Image Count: 20
Max Mosaic Image Count: 50
Allow Raster Function: true
Allow Copy: true
Allow Analysis: true
Allow Compute TiePoints: false
Supports Statistics: true
Supports Advanced Queries: true
Use StandardizedQueries: true
Raster Type Infos:
Name: Raster Dataset
Description: Supports all ArcGIS Raster Datasets
Help:
Has Raster Attribute Table: false
Edit Fields Info: null
Ownership Based AccessControl For Rasters: null
Child Resources:
Info
Histograms
Statistics
Key Properties
Legend
Raster Function Infos
Supported Operations:
Export Image
Query
Identify
Compute Histograms
Compute Statistics Histograms
Get Samples
Compute Class Statistics
Query Boundary
Compute Pixel Location
Validate
Project