{
 "currentVersion": 10.81,
 "serviceDescription": "Imagery/Flagler_County_Aerial_Imagery_2008",
 "name": "Imagery/Flagler_County_Aerial_Imagery_2008",
 "description": "",
 "extent": {
  "xmin": 485000,
  "ymin": 1790000,
  "xmax": 625000,
  "ymax": 1945000,
  "spatialReference": {
   "wkt": "PROJCS[\"NAD_1983_Florida_East\",GEOGCS[\"GCS_North_American_1983\",DATUM[\"D_North_American_1983\",SPHEROID[\"GRS_1980\",6378137.0,298.257222101]],PRIMEM[\"Greenwich\",0.0],UNIT[\"degree (supplier to define representation)\",0.01745329251994328]],PROJECTION[\"Transverse_Mercator\"],PARAMETER[\"false_easting\",656166.6666666666],PARAMETER[\"false_northing\",0.0],PARAMETER[\"central_meridian\",-81.0000000000001],PARAMETER[\"scale_factor\",0.999941177],PARAMETER[\"latitude_of_origin\",24.33333333333336],UNIT[\"Foot_US\",0.3048006096012192]]"
  }
 },
 "initialExtent": {
  "xmin": 485000,
  "ymin": 1790000,
  "xmax": 625000,
  "ymax": 1945000,
  "spatialReference": {
   "wkt": "PROJCS[\"NAD_1983_Florida_East\",GEOGCS[\"GCS_North_American_1983\",DATUM[\"D_North_American_1983\",SPHEROID[\"GRS_1980\",6378137.0,298.257222101]],PRIMEM[\"Greenwich\",0.0],UNIT[\"degree (supplier to define representation)\",0.01745329251994328]],PROJECTION[\"Transverse_Mercator\"],PARAMETER[\"false_easting\",656166.6666666666],PARAMETER[\"false_northing\",0.0],PARAMETER[\"central_meridian\",-81.0000000000001],PARAMETER[\"scale_factor\",0.999941177],PARAMETER[\"latitude_of_origin\",24.33333333333336],UNIT[\"Foot_US\",0.3048006096012192]]"
  }
 },
 "fullExtent": {
  "xmin": 485000,
  "ymin": 1790000,
  "xmax": 625000,
  "ymax": 1945000,
  "spatialReference": {
   "wkt": "PROJCS[\"NAD_1983_Florida_East\",GEOGCS[\"GCS_North_American_1983\",DATUM[\"D_North_American_1983\",SPHEROID[\"GRS_1980\",6378137.0,298.257222101]],PRIMEM[\"Greenwich\",0.0],UNIT[\"degree (supplier to define representation)\",0.01745329251994328]],PROJECTION[\"Transverse_Mercator\"],PARAMETER[\"false_easting\",656166.6666666666],PARAMETER[\"false_northing\",0.0],PARAMETER[\"central_meridian\",-81.0000000000001],PARAMETER[\"scale_factor\",0.999941177],PARAMETER[\"latitude_of_origin\",24.33333333333336],UNIT[\"Foot_US\",0.3048006096012192]]"
  }
 },
 "timeInfo": {
  "startTimeField": "DateFlown",
  "endTimeField": "DateFlown",
  "timeExtent": [
   1199145600000,
   1199145600000
  ],
  "timeReference": null
 },
 "pixelSizeX": 1,
 "pixelSizeY": 1,
 "datasetFormat": "AMD",
 "uncompressedSize": 65100000000,
 "blockWidth": 2048,
 "blockHeight": 256,
 "compressionType": "None",
 "bandNames": [
  "Band_1",
  "Band_2",
  "Band_3"
 ],
 "allowCopy": true,
 "allowAnalysis": true,
 "bandCount": 3,
 "pixelType": "U8",
 "minPixelSize": 0,
 "maxPixelSize": 0,
 "copyrightText": "",
 "serviceDataType": "esriImageServiceDataTypeRGB",
 "serviceSourceType": "esriImageServiceSourceTypeMosaicDataset",
 "minValues": [
  2,
  2,
  16
 ],
 "maxValues": [
  255,
  255,
  255
 ],
 "meanValues": [
  77.98400883477562,
  96.78040713233496,
  87.904707689699
 ],
 "stdvValues": [
  30.59544787294603,
  27.362090919065732,
  20.862562872395156
 ],
 "objectIdField": "OBJECTID",
 "fields": [
  {
   "name": "OBJECTID",
   "type": "esriFieldTypeOID",
   "alias": "OBJECTID",
   "domain": null
  },
  {
   "name": "Name",
   "type": "esriFieldTypeString",
   "alias": "Name",
   "domain": null,
   "length": 200
  },
  {
   "name": "MinPS",
   "type": "esriFieldTypeDouble",
   "alias": "MinPS",
   "domain": null
  },
  {
   "name": "MaxPS",
   "type": "esriFieldTypeDouble",
   "alias": "MaxPS",
   "domain": null
  },
  {
   "name": "LowPS",
   "type": "esriFieldTypeDouble",
   "alias": "LowPS",
   "domain": null
  },
  {
   "name": "HighPS",
   "type": "esriFieldTypeDouble",
   "alias": "HighPS",
   "domain": null
  },
  {
   "name": "Category",
   "type": "esriFieldTypeInteger",
   "alias": "Category",
   "domain": {
    "type": "codedValue",
    "name": "MosaicCatalogItemCategoryDomain",
    "description": "Catalog item categories.",
    "codedValues": [
     {
      "name": "Unknown",
      "code": 0
     },
     {
      "name": "Primary",
      "code": 1
     },
     {
      "name": "Overview",
      "code": 2
     },
     {
      "name": "Unprocessed Overview",
      "code": 3
     },
     {
      "name": "Partial Overview",
      "code": 4
     },
     {
      "name": "Inactive",
      "code": 5
     },
     {
      "name": "Uploaded",
      "code": 253
     },
     {
      "name": "Incomplete",
      "code": 254
     },
     {
      "name": "Custom",
      "code": 255
     }
    ],
    "mergePolicy": "esriMPTDefaultValue",
    "splitPolicy": "esriSPTDefaultValue"
   }
  },
  {
   "name": "Tag",
   "type": "esriFieldTypeString",
   "alias": "Tag",
   "domain": null,
   "length": 100
  },
  {
   "name": "GroupName",
   "type": "esriFieldTypeString",
   "alias": "GroupName",
   "domain": null,
   "length": 100
  },
  {
   "name": "ProductName",
   "type": "esriFieldTypeString",
   "alias": "ProductName",
   "domain": null,
   "length": 100
  },
  {
   "name": "CenterX",
   "type": "esriFieldTypeDouble",
   "alias": "CenterX",
   "domain": null
  },
  {
   "name": "CenterY",
   "type": "esriFieldTypeDouble",
   "alias": "CenterY",
   "domain": null
  },
  {
   "name": "ZOrder",
   "type": "esriFieldTypeInteger",
   "alias": "ZOrder",
   "domain": null
  },
  {
   "name": "Shape",
   "type": "esriFieldTypeGeometry",
   "alias": "Shape",
   "domain": null
  },
  {
   "name": "DateFlown",
   "type": "esriFieldTypeDate",
   "alias": "DateFlown",
   "domain": null,
   "length": 8
  }
 ],
 "capabilities": "Image,Metadata,Catalog",
 "defaultMosaicMethod": "Northwest",
 "allowedMosaicMethods": "NorthWest,Center,LockRaster,ByAttribute,Nadir,Viewpoint,Seamline,None",
 "sortField": "",
 "sortValue": null,
 "sortAscending": true,
 "mosaicOperator": "First",
 "maxDownloadSizeLimit": 2048,
 "defaultCompressionQuality": 85,
 "defaultResamplingMethod": "Bilinear",
 "maxImageHeight": 4100,
 "maxImageWidth": 15000,
 "maxRecordCount": 1000,
 "maxDownloadImageCount": 20,
 "maxMosaicImageCount": 50,
 "allowRasterFunction": true,
 "rasterFunctionInfos": [
  {
   "name": "None",
   "description": "",
   "help": ""
  }
 ],
 "rasterTypeInfos": [
  {
   "name": "Raster Dataset",
   "description": "Supports all ArcGIS Raster Datasets",
   "help": ""
  }
 ],
 "mensurationCapabilities": "None",
 "hasHistograms": true,
 "hasColormap": false,
 "hasRasterAttributeTable": false,
 "minScale": 0,
 "maxScale": 0,
 "exportTilesAllowed": false,
 "hasMultidimensions": false,
 "supportsStatistics": true,
 "supportsAdvancedQueries": true,
 "editFieldsInfo": null,
 "ownershipBasedAccessControlForRasters": null,
 "allowComputeTiePoints": false,
 "useStandardizedQueries": true,
 "advancedQueryCapabilities": {
  "useStandardizedQueries": true,
  "supportsStatistics": true,
  "supportsOrderBy": true,
  "supportsDistinct": true,
  "supportsPagination": true
 },
 "spatialReference": {
  "wkt": "PROJCS[\"NAD_1983_Florida_East\",GEOGCS[\"GCS_North_American_1983\",DATUM[\"D_North_American_1983\",SPHEROID[\"GRS_1980\",6378137.0,298.257222101]],PRIMEM[\"Greenwich\",0.0],UNIT[\"degree (supplier to define representation)\",0.01745329251994328]],PROJECTION[\"Transverse_Mercator\"],PARAMETER[\"false_easting\",656166.6666666666],PARAMETER[\"false_northing\",0.0],PARAMETER[\"central_meridian\",-81.0000000000001],PARAMETER[\"scale_factor\",0.999941177],PARAMETER[\"latitude_of_origin\",24.33333333333336],UNIT[\"Foot_US\",0.3048006096012192]]"
 }
}
